
BEGIN:VCALENDAR
VERSION:2.0
PRODID:-//MarkedsPartner AS//Umbraco CMS//NO
TIMEZONE-ID:Europe/Oslo
X-WR-TIMEZONE:Europe/Oslo


BEGIN:VEVENT
UID:b4a7040829104eab84ac6455d9336082
URL:https://umbraco.naeringsforeningen.no/moeter/arkiv/tv-sending-1-april/
ORGANIZER;CN=Ola Normann:MAILTO:ola.normann@markedspartner.no
DTSTAMP:20200401T070000Z
DTSTART:20200401T070000Z
DTEND:20200401T073000Z
LAST-MODIFIED:20221031T120433Z
SUMMARY:TV: Sending 1. april
DESCRIPTION:Helsebedrifter opplever økt etterspørsel i disse dager. Vi får besøk av Arild Kristensen Egil Hansen, Frank Meland, og Ingvald Løyning i onsdagens sending.
X-ALT-DESC:Helsebedrifter opplever &#248;kt ettersp&#248;rsel i disse dager. Vi f&#229;r bes&#248;k av Arild Kristensen Egil Hansen, Frank Meland, og Ingvald L&#248;yning i onsdagens sending.
LOCATION:Facebook Live
END:VEVENT


END:VCALENDAR



