
BEGIN:VCALENDAR
VERSION:2.0
PRODID:-//MarkedsPartner AS//Umbraco CMS//NO
TIMEZONE-ID:Europe/Oslo
X-WR-TIMEZONE:Europe/Oslo


BEGIN:VEVENT
UID:dee1cd8a7b2c4daa968674e6b2955702
URL:https://umbraco.naeringsforeningen.no/moeter/arkiv/tv-sending-091120/
ORGANIZER;CN=Ola Normann:MAILTO:ola.normann@markedspartner.no
DTSTAMP:20201109T080000Z
DTSTART:20201109T080000Z
DTEND:20201109T082000Z
LAST-MODIFIED:20221031T115209Z
SUMMARY:TV-sending: Økonomisk Rapport
DESCRIPTION:Næringsforeningen er tilbake med daglige nyhetssendinger. Mandag presenterer vi Økonomisk Rapport 2020 med UiS-professor Ragnar Tveterås og Harald Minge i studio. Hvordan gikk det i 2019, hva tror bedriftene om koronaåret 2020 og ikke minst mulighetene i 2021?
X-ALT-DESC:N&#230;ringsforeningen er tilbake med daglige nyhetssendinger. Mandag presenterer vi &#216;konomisk Rapport 2020 med UiS-professor Ragnar Tveter&#229;s og Harald Minge i studio. Hvordan gikk det i 2019, hva tror bedriftene om korona&#229;ret 2020 og ikke minst mulighetene i 2021?
LOCATION:Facebook Live
END:VEVENT


END:VCALENDAR



