
BEGIN:VCALENDAR
VERSION:2.0
PRODID:-//MarkedsPartner AS//Umbraco CMS//NO
TIMEZONE-ID:Europe/Oslo
X-WR-TIMEZONE:Europe/Oslo


BEGIN:VEVENT
UID:2ead3e44133c493e8afd56a4786f2d11
URL:https://umbraco.naeringsforeningen.no/moeter/arkiv/tv-sending-090621/
ORGANIZER;CN=Ola Normann:MAILTO:ola.normann@markedspartner.no
DTSTAMP:20210609T070000Z
DTSTART:20210609T070000Z
DTEND:20210609T072000Z
LAST-MODIFIED:20221031T122022Z
SUMMARY:Inkluderingsprisen og hvorfor inkludering er viktig
DESCRIPTION:Alle tjener på et inkluderende arbeidsliv. I dagens sending deler vi ut inkluderingsprisen og tar for oss hvorfor inkludering er viktig og noe alle tjener på. Hanne N. Berentzen, styreleder i Næringsforeningen, deler ut prisen. Finalistene i år er Dynamo Logistikk, NorDan, Motor Forum Stavanger, SFF Group, IKEA Forus og RMB Malerservice.
X-ALT-DESC:Alle tjener p&#229; et inkluderende arbeidsliv. I dagens sending deler vi ut inkluderingsprisen og tar for oss hvorfor inkludering er viktig og noe alle tjener p&#229;. Hanne N. Berentzen, styreleder i N&#230;ringsforeningen, deler ut prisen. Finalistene i &#229;r er Dynamo Logistikk, NorDan, Motor Forum Stavanger, SFF Group, IKEA Forus og RMB Malerservice.
LOCATION:Facebook Live
END:VEVENT


END:VCALENDAR



