
BEGIN:VCALENDAR
VERSION:2.0
PRODID:-//MarkedsPartner AS//Umbraco CMS//NO
TIMEZONE-ID:Europe/Oslo
X-WR-TIMEZONE:Europe/Oslo


BEGIN:VEVENT
UID:3f9905246c934161951e057ab43d8d0a
URL:https://umbraco.naeringsforeningen.no/moeter/arkiv/tv-sending-090421/
ORGANIZER;CN=Ola Normann:MAILTO:ola.normann@markedspartner.no
DTSTAMP:20210409T070000Z
DTSTART:20210409T070000Z
DTEND:20210409T072000Z
LAST-MODIFIED:20221031T121031Z
SUMMARY:NYE MULIGHETER: Fra oljeplattform til oppdrettsanlegg
DESCRIPTION:«Octopus» er ikke tittelen på en gammel James Bond film, men Roxel Aquas konsept for gjenbruk av utrangerte oljeinstallasjoner til havbruksanlegg. Ideen kom etter at oljeprisen falt i 2015, og en rekke rigger ble liggende ubrukt til kai. Nå er signalene omsider positive fra Nærings- og fiskeridepartementet. Dag Øyvind Meling kommer i Nye muligheter-studioet for å snakke med Harald Minge og Tormod Andreassen.
X-ALT-DESC:&#171;Octopus&#187; er ikke tittelen p&#229; en gammel James Bond film, men Roxel Aquas konsept for gjenbruk av utrangerte oljeinstallasjoner til havbruksanlegg. Ideen kom etter at oljeprisen falt i 2015, og en rekke rigger ble liggende ubrukt til kai. N&#229; er signalene omsider positive fra N&#230;rings- og fiskeridepartementet. Dag &#216;yvind Meling kommer i Nye muligheter-studioet for &#229; snakke med Harald Minge og Tormod Andreassen.
LOCATION:Facebook Live
END:VEVENT


END:VCALENDAR



