
BEGIN:VCALENDAR
VERSION:2.0
PRODID:-//MarkedsPartner AS//Umbraco CMS//NO
TIMEZONE-ID:Europe/Oslo
X-WR-TIMEZONE:Europe/Oslo


BEGIN:VEVENT
UID:139d59d92c114dd8b15a9a23b12c450f
URL:https://umbraco.naeringsforeningen.no/moeter/arkiv/tv-sending-081021/
ORGANIZER;CN=Ola Normann:MAILTO:ola.normann@markedspartner.no
DTSTAMP:20211008T070000Z
DTSTART:20211008T070000Z
DTEND:20211008T073000Z
LAST-MODIFIED:20221031T122612Z
SUMMARY:Næringsforeningen TV: Se vårt nye helgemagasin 
DESCRIPTION:KVS Technologies fra Forus har vokst til 300 ansatte og er i ferd med å innta Europa og Nord-Amerika. Direktør og medgründer Cato Vevatne er med oss i dagens sending. Vi har også besøkt Stavanger lufthavn, Sola, en flyplass som har vakt oppsikt med både satsing på biologisk mangfold, grønne planer og nye energiløsninger, og i NAV opplever man en kraftig nedgang i arbeidsledigheten. Og – vi tar pulsen på bærekraftskonferansen Pioner, mens Harald Minge og Tormod Andreassen reflekterer over uka som gikk.
X-ALT-DESC:KVS Technologies fra Forus har vokst til 300 ansatte og er i ferd med &#229; innta Europa og Nord-Amerika. Direkt&#248;r og medgr&#252;nder Cato Vevatne er med oss i dagens sending. Vi har ogs&#229; bes&#248;kt Stavanger lufthavn, Sola, en flyplass som har vakt oppsikt med b&#229;de satsing p&#229; biologisk mangfold, gr&#248;nne planer og nye energil&#248;sninger, og i NAV opplever man en kraftig nedgang i arbeidsledigheten. Og – vi tar pulsen p&#229; b&#230;rekraftskonferansen Pioner, mens Harald Minge og Tormod Andreassen reflekterer over uka som gikk.
LOCATION:Facebook Live
END:VEVENT


END:VCALENDAR



