
BEGIN:VCALENDAR
VERSION:2.0
PRODID:-//MarkedsPartner AS//Umbraco CMS//NO
TIMEZONE-ID:Europe/Oslo
X-WR-TIMEZONE:Europe/Oslo


BEGIN:VEVENT
UID:0adc1163b79a450bacf89e5109add211
URL:https://umbraco.naeringsforeningen.no/moeter/arkiv/tv-sending-080621/
ORGANIZER;CN=Ola Normann:MAILTO:ola.normann@markedspartner.no
DTSTAMP:20210608T070000Z
DTSTART:20210608T070000Z
DTEND:20210608T072000Z
LAST-MODIFIED:20221031T122018Z
SUMMARY:Grønne investeringer
DESCRIPTION:Det skal handle om grønne investeringer i dagens tv-sending! Fornybarfondet Nysnø skal gjøre investeringer som både er lønnsomme og bringer oss i en grønnere retning. Stadig dukker det opp nyheter om nye investeringer, og i studio kommer strategi- og kommunikasjonsdirektør Ingvild Meland. Det gjør også Vidar Blomvik fra teknologiselskapet Verico, som akkurat har blitt en del av Nysnø-familien.
X-ALT-DESC:Det skal handle om gr&#248;nne investeringer i dagens tv-sending! Fornybarfondet Nysn&#248; skal gj&#248;re investeringer som b&#229;de er l&#248;nnsomme og bringer oss i en gr&#248;nnere retning. Stadig dukker det opp nyheter om nye investeringer, og i studio kommer strategi- og kommunikasjonsdirekt&#248;r Ingvild Meland. Det gj&#248;r ogs&#229; Vidar Blomvik fra teknologiselskapet Verico, som akkurat har blitt en del av Nysn&#248;-familien.
LOCATION:Facebook Live
END:VEVENT


END:VCALENDAR



