
BEGIN:VCALENDAR
VERSION:2.0
PRODID:-//MarkedsPartner AS//Umbraco CMS//NO
TIMEZONE-ID:Europe/Oslo
X-WR-TIMEZONE:Europe/Oslo


BEGIN:VEVENT
UID:06c4991083314dff988659245aab62c0
URL:https://umbraco.naeringsforeningen.no/moeter/arkiv/tv-sending-070521/
ORGANIZER;CN=Ola Normann:MAILTO:ola.normann@markedspartner.no
DTSTAMP:20210507T070000Z
DTSTART:20210507T070000Z
DTEND:20210507T072000Z
LAST-MODIFIED:20221031T121541Z
SUMMARY:Hydrogendrevne lasteskip
DESCRIPTION:I 2024 skal verdens første hydrogendrevne lasteskip, «Topeka», sjøsettes. Skipet skal frakte gods og hydrogen utslippsfritt mellom Stavanger og Bergen, og hydrogenet skal produseres av Equinor på Mongstad. Skipet er under utvikling av Norsea Group og Wilhelmsen, og i studio kommer prosjektleder Steinar Madsen. Det er fredag og det handler om Nye muligheter med Harald Minge og Tormod Andreassen.
X-ALT-DESC:I 2024 skal verdens f&#248;rste hydrogendrevne lasteskip, &#171;Topeka&#187;, sj&#248;settes. Skipet skal frakte gods og hydrogen utslippsfritt mellom Stavanger og Bergen, og hydrogenet skal produseres av Equinor p&#229; Mongstad. Skipet er under utvikling av Norsea Group og Wilhelmsen, og i studio kommer prosjektleder Steinar Madsen. Det er fredag og det handler om Nye muligheter med Harald Minge og Tormod Andreassen.
LOCATION:Facebook Live
END:VEVENT


END:VCALENDAR



