
BEGIN:VCALENDAR
VERSION:2.0
PRODID:-//MarkedsPartner AS//Umbraco CMS//NO
TIMEZONE-ID:Europe/Oslo
X-WR-TIMEZONE:Europe/Oslo


BEGIN:VEVENT
UID:0eb43c285b1141988027262bec626317
URL:https://umbraco.naeringsforeningen.no/moeter/arkiv/tv-sending-070122/
ORGANIZER;CN=Ola Normann:MAILTO:ola.normann@markedspartner.no
DTSTAMP:20220107T080000Z
DTSTART:20220107T080000Z
DTEND:20220107T082000Z
LAST-MODIFIED:20221031T123410Z
SUMMARY:TV: Go´morgen næringslivet
DESCRIPTION:Sjeføkonom Kyrre Knudsen i Sparebank 1 SR- Bank og smittevernoverlege Lars Kåre Kleppe ved SUS, er gjester i dagens frokostsending. Som vanlig blir du også oppdatert på morgenens nyhetsbilde.
X-ALT-DESC:Sjef&#248;konom Kyrre Knudsen i Sparebank 1 SR- Bank og smittevernoverlege Lars K&#229;re Kleppe ved SUS, er gjester i dagens frokostsending. Som vanlig blir du ogs&#229; oppdatert p&#229; morgenens nyhetsbilde.
LOCATION:Facebook Live/Linkedin Live
END:VEVENT


END:VCALENDAR



