
BEGIN:VCALENDAR
VERSION:2.0
PRODID:-//MarkedsPartner AS//Umbraco CMS//NO
TIMEZONE-ID:Europe/Oslo
X-WR-TIMEZONE:Europe/Oslo


BEGIN:VEVENT
UID:5fc8737a48d74e549784104e2e0d5355
URL:https://umbraco.naeringsforeningen.no/moeter/arkiv/tv-sending-060530/
ORGANIZER;CN=Ola Normann:MAILTO:ola.normann@markedspartner.no
DTSTAMP:20210506T070000Z
DTSTART:20210506T070000Z
DTEND:20210506T072000Z
LAST-MODIFIED:20221031T121521Z
SUMMARY:Bør vi åpne mer med strenge koronakrav?
DESCRIPTION:Stengt for det kontrollerte og åpent for det ukontrollerte? Mens russen feirer og bidrar til økt smitte må restaurantene fortsatt avstå fra alkoholservering og viktig inntekt og festivaler må avlyses. Torsdag kveld skal regionens ordførere diskutere gjenåpning. I studio kommer Hasse Andersen fra Maijazz og Fisketorgets Karl Erik Pallesen.
X-ALT-DESC:Stengt for det kontrollerte og &#229;pent for det ukontrollerte? Mens russen feirer og bidrar til &#248;kt smitte m&#229; restaurantene fortsatt avst&#229; fra alkoholservering og viktig inntekt og festivaler m&#229; avlyses. Torsdag kveld skal regionens ordf&#248;rere diskutere gjen&#229;pning. I studio kommer Hasse Andersen fra Maijazz og Fisketorgets Karl Erik Pallesen.
LOCATION:Facebook Live
END:VEVENT


END:VCALENDAR



