
BEGIN:VCALENDAR
VERSION:2.0
PRODID:-//MarkedsPartner AS//Umbraco CMS//NO
TIMEZONE-ID:Europe/Oslo
X-WR-TIMEZONE:Europe/Oslo


BEGIN:VEVENT
UID:2fd30e16b6964425a941d6c24c3bf73d
URL:https://umbraco.naeringsforeningen.no/moeter/arkiv/tv-sending-060122/
ORGANIZER;CN=Ola Normann:MAILTO:ola.normann@markedspartner.no
DTSTAMP:20220106T080000Z
DTSTART:20220106T080000Z
DTEND:20220106T082000Z
LAST-MODIFIED:20221031T123405Z
SUMMARY:TV: Go´morgen næringslivet
DESCRIPTION:Bent Høie er vår hovedgjest i dagens frokostsending. Vi tar også en prat med Inger Tone Ødegård om aksjeåret, Knud med D – alias Rune Bjerga – rapporterer fra hjemmekontoret, og som vanlig tar vi pulsen på morgenens nyheter.
X-ALT-DESC:Bent H&#248;ie er v&#229;r hovedgjest i dagens frokostsending. Vi tar ogs&#229; en prat med Inger Tone &#216;deg&#229;rd om aksje&#229;ret, Knud med D – alias Rune Bjerga – rapporterer fra hjemmekontoret, og som vanlig tar vi pulsen p&#229; morgenens nyheter.
LOCATION:Facebook Live
END:VEVENT


END:VCALENDAR



