
BEGIN:VCALENDAR
VERSION:2.0
PRODID:-//MarkedsPartner AS//Umbraco CMS//NO
TIMEZONE-ID:Europe/Oslo
X-WR-TIMEZONE:Europe/Oslo


BEGIN:VEVENT
UID:4fbd9827f95d469e972fc56cfaad4108
URL:https://umbraco.naeringsforeningen.no/moeter/arkiv/tv-sending-051121/
ORGANIZER;CN=Ola Normann:MAILTO:ola.normann@markedspartner.no
DTSTAMP:20211105T080000Z
DTSTART:20211105T080000Z
DTEND:20211105T083000Z
LAST-MODIFIED:20221031T122900Z
SUMMARY:Næringsforeningen TV: Helgemagasin
DESCRIPTION:Finalistene til den prestisjetunge prisen Årets bedrift er klare. I denne sendingen får du høre hvem. Vi har besøkt jubilanten Petoro og administrerende direktør Kristin Kragseth, og har også møtt mesterkokken Arne Brimi på smaksfest på Utstein kloster. I Sandnes forbereder kulturhuset seg på storinnrykk, og i studio filosoferer Harald Minge og Tormod Andreassen som vanlig over uka som har gått.
X-ALT-DESC:Finalistene til den prestisjetunge prisen &#197;rets bedrift er klare. I denne sendingen f&#229;r du h&#248;re hvem. Vi har bes&#248;kt jubilanten Petoro og administrerende direkt&#248;r Kristin Kragseth, og har ogs&#229; m&#248;tt mesterkokken Arne Brimi p&#229; smaksfest p&#229; Utstein kloster. I Sandnes forbereder kulturhuset seg p&#229; storinnrykk, og i studio filosoferer Harald Minge og Tormod Andreassen som vanlig over uka som har g&#229;tt.
LOCATION:Facebook Live
END:VEVENT


END:VCALENDAR



