
BEGIN:VCALENDAR
VERSION:2.0
PRODID:-//MarkedsPartner AS//Umbraco CMS//NO
TIMEZONE-ID:Europe/Oslo
X-WR-TIMEZONE:Europe/Oslo


BEGIN:VEVENT
UID:2fcde21ec4d744469bde3dd36703b553
URL:https://umbraco.naeringsforeningen.no/moeter/arkiv/tv-sending-050521/
ORGANIZER;CN=Ola Normann:MAILTO:ola.normann@markedspartner.no
DTSTAMP:20210505T070000Z
DTSTART:20210505T070000Z
DTEND:20210505T072000Z
LAST-MODIFIED:20221031T121459Z
SUMMARY:Når er vi ferdig vaksinert?
DESCRIPTION:Når kan vi forvente at vi er vaksinert mot korona, og hvordan er fremdriften for vaksinasjonsprogrammet? Det og mye mer får du vite mer om i onsdagens TV-sending. Vi får besøk av Marianne Amdal, virksomhetsleder for vaksinetjenesten i Stavanger.
X-ALT-DESC:N&#229;r kan vi forvente at vi er vaksinert mot korona, og hvordan er fremdriften for vaksinasjonsprogrammet? Det og mye mer f&#229;r du vite mer om i onsdagens TV-sending. Vi f&#229;r bes&#248;k av Marianne Amdal, virksomhetsleder for vaksinetjenesten i Stavanger.
LOCATION:Facebook Live
END:VEVENT


END:VCALENDAR



