
BEGIN:VCALENDAR
VERSION:2.0
PRODID:-//MarkedsPartner AS//Umbraco CMS//NO
TIMEZONE-ID:Europe/Oslo
X-WR-TIMEZONE:Europe/Oslo


BEGIN:VEVENT
UID:a7c5f670f68c4c2e9be399bc7b9f9384
URL:https://umbraco.naeringsforeningen.no/moeter/arkiv/tv-sending-050122/
ORGANIZER;CN=Ola Normann:MAILTO:ola.normann@markedspartner.no
DTSTAMP:20220105T080000Z
DTSTART:20220105T080000Z
DTEND:20220105T083000Z
LAST-MODIFIED:20221031T123353Z
SUMMARY:TV: Go´morgen næringslivet
DESCRIPTION:Bjørn Maaseide er hovedgjest i onsdagens frokost-TV sending fra Næringsforeningen. Vi tar for oss morgenens nyhetsbilde, og får også en direkte rapport fra lufthavnsjef Anette Sigmundstad ved Stavanger lufthavn, Sola. Og programlederne Elianne Strøm Topstad og Ståle Frafjord presenterer de første bildene fra en regionens mange hjemmekontor.
X-ALT-DESC:Bj&#248;rn Maaseide er hovedgjest i onsdagens frokost-TV sending fra N&#230;ringsforeningen. Vi tar for oss morgenens nyhetsbilde, og f&#229;r ogs&#229; en direkte rapport fra lufthavnsjef Anette Sigmundstad ved Stavanger lufthavn, Sola. Og programlederne Elianne Str&#248;m Topstad og St&#229;le Frafjord presenterer de f&#248;rste bildene fra en regionens mange hjemmekontor.
LOCATION:Facebook Live
END:VEVENT


END:VCALENDAR



