
BEGIN:VCALENDAR
VERSION:2.0
PRODID:-//MarkedsPartner AS//Umbraco CMS//NO
TIMEZONE-ID:Europe/Oslo
X-WR-TIMEZONE:Europe/Oslo


BEGIN:VEVENT
UID:a4acd3e3dfab46aa80f4f20de1f35ac7
URL:https://umbraco.naeringsforeningen.no/moeter/arkiv/tv-sending-040530/
ORGANIZER;CN=Ola Normann:MAILTO:ola.normann@markedspartner.no
DTSTAMP:20210504T070000Z
DTSTART:20210504T070000Z
DTEND:20210504T072000Z
LAST-MODIFIED:20221031T121428Z
SUMMARY:Innovasjon og nytenkning i byggenæringen
DESCRIPTION:Bygg-, anlegg- og eiendomsnæringen er en av Norges største, der kravene til innovasjon og nytenkning stadig vokser. Hvorfor og hvordan – det er tema for denne sendingen. Vi har med oss Rune Augenstein i Smedvig og  Simen Malmin i Veni.
X-ALT-DESC:Bygg-, anlegg- og eiendomsn&#230;ringen er en av Norges st&#248;rste, der kravene til innovasjon og nytenkning stadig vokser. Hvorfor og hvordan – det er tema for denne sendingen. Vi har med oss Rune Augenstein i Smedvig og&#160;&#160;Simen Malmin i Veni.
LOCATION:Facebook Live
END:VEVENT


END:VCALENDAR



