
BEGIN:VCALENDAR
VERSION:2.0
PRODID:-//MarkedsPartner AS//Umbraco CMS//NO
TIMEZONE-ID:Europe/Oslo
X-WR-TIMEZONE:Europe/Oslo


BEGIN:VEVENT
UID:a800d8006073448bbec84f7d5597ea38
URL:https://umbraco.naeringsforeningen.no/moeter/arkiv/tv-sending-031221/
ORGANIZER;CN=Ola Normann:MAILTO:ola.normann@markedspartner.no
DTSTAMP:20211203T080000Z
DTSTART:20211203T080000Z
DTEND:20211203T083000Z
LAST-MODIFIED:20221031T123236Z
SUMMARY:Næringsforeningen TV: Helgemagasin
DESCRIPTION:Hva skjer med de rekordhøye strømprisene og hvilke konsekvenser kan det få? Vi har med oss konsernsjef Eimund Nygaard i Lyse i denne sendingen. Samtidig er det tre uker til jul. Vi har besøkt Vinterland i Sandnes, og tar pulsen på hva de største byene i regionene tilbyr av sentrumsaktiviteter i adventstiden. På Oljemuseet er årets pepperkakeby åpen for visning, og som vanlig tar Harald Minge og Tormod Andreassen for seg uka som gikk.
X-ALT-DESC:Hva skjer med de rekordh&#248;ye str&#248;mprisene og hvilke konsekvenser kan det f&#229;? Vi har med oss konsernsjef Eimund Nygaard i Lyse i denne sendingen. Samtidig er det tre uker til jul. Vi har bes&#248;kt Vinterland i Sandnes, og tar pulsen p&#229; hva de st&#248;rste byene i regionene tilbyr av sentrumsaktiviteter i adventstiden. P&#229; Oljemuseet er &#229;rets pepperkakeby &#229;pen for visning, og som vanlig tar Harald Minge og Tormod Andreassen for seg uka som gikk.
LOCATION:Facebook Live
END:VEVENT


END:VCALENDAR



