
BEGIN:VCALENDAR
VERSION:2.0
PRODID:-//MarkedsPartner AS//Umbraco CMS//NO
TIMEZONE-ID:Europe/Oslo
X-WR-TIMEZONE:Europe/Oslo


BEGIN:VEVENT
UID:d57992fc18474c1c8f538f1e1032e335
URL:https://umbraco.naeringsforeningen.no/moeter/arkiv/tv-sending-030621/
ORGANIZER;CN=Ola Normann:MAILTO:ola.normann@markedspartner.no
DTSTAMP:20210603T070000Z
DTSTART:20210603T070000Z
DTEND:20210603T072000Z
LAST-MODIFIED:20221031T121855Z
SUMMARY:Behov og utforming av kontorlokaler
DESCRIPTION:Hvilken betydning får koronapandemien for behov og utforming av kontorlokaler og arbeidsplasser i årene fremover, og hvordan og hvor vi jobber? Vi har med oss arkitektspsykolog Oddvar Skjæveland og konseptansvarlig for Innoasis, Pia Fischer, i denne sendingen.
X-ALT-DESC:Hvilken betydning f&#229;r koronapandemien for behov og utforming av kontorlokaler og arbeidsplasser i &#229;rene fremover, og hvordan og hvor vi jobber? Vi har med oss arkitektspsykolog Oddvar Skj&#230;veland og konseptansvarlig for Innoasis, Pia Fischer, i denne sendingen.
LOCATION:Facebook Live
END:VEVENT


END:VCALENDAR



