
BEGIN:VCALENDAR
VERSION:2.0
PRODID:-//MarkedsPartner AS//Umbraco CMS//NO
TIMEZONE-ID:Europe/Oslo
X-WR-TIMEZONE:Europe/Oslo


BEGIN:VEVENT
UID:82d1ddff730e4a0089630d5fa1eac086
URL:https://umbraco.naeringsforeningen.no/moeter/arkiv/tv-sending-030530/
ORGANIZER;CN=Ola Normann:MAILTO:ola.normann@markedspartner.no
DTSTAMP:20210503T070000Z
DTSTART:20210503T070000Z
DTEND:20210503T072000Z
LAST-MODIFIED:20221031T121422Z
SUMMARY:Kongeparken og utsiktene for reiselivet
DESCRIPTION:Det våres, og lørdag åpnet Kongeparken for sesongen. Hvordan det gikk, og hvordan parken har planlagt for en sesong som også i år blir annerledes, skal du får høre mer om i denne sendingen. Håkon Lund er gjest sammen med reiselivsdirektør Elisabeth Saupstad i Region Stavanger.
X-ALT-DESC:Det v&#229;res, og l&#248;rdag &#229;pnet Kongeparken for sesongen. Hvordan det gikk, og hvordan parken har planlagt for en sesong som ogs&#229; i &#229;r blir annerledes, skal du f&#229;r h&#248;re mer om i denne sendingen. H&#229;kon Lund er gjest sammen med reiselivsdirekt&#248;r Elisabeth Saupstad i Region Stavanger.
LOCATION:Facebook Live
END:VEVENT


END:VCALENDAR



