
BEGIN:VCALENDAR
VERSION:2.0
PRODID:-//MarkedsPartner AS//Umbraco CMS//NO
TIMEZONE-ID:Europe/Oslo
X-WR-TIMEZONE:Europe/Oslo


BEGIN:VEVENT
UID:3b50e73fd15d4200b7c1b7abf0377a80
URL:https://umbraco.naeringsforeningen.no/moeter/arkiv/tv-sending-021120/
ORGANIZER;CN=Ola Normann:MAILTO:ola.normann@markedspartner.no
DTSTAMP:20201102T080000Z
DTSTART:20201102T080000Z
DTEND:20201102T081000Z
LAST-MODIFIED:20221031T114439Z
SUMMARY:TV-sending: Boligmarkedet
DESCRIPTION:Boligprisene har steget 1,7 prosent siste året og salget har tatt seg opp etter koronaen. Men hva kan vi forvente i tiden fremover? Vi har snakket med Knut Myklestad, leder i Rogaland Eiendomsmeglerforening, i dagens sending.
X-ALT-DESC:Boligprisene har steget 1,7 prosent siste &#229;ret og salget har tatt seg opp etter koronaen. Men hva kan vi forvente i tiden fremover? Vi har snakket med Knut Myklestad, leder i Rogaland Eiendomsmeglerforening, i dagens sending.
LOCATION:Facebook Live
END:VEVENT


END:VCALENDAR



