
BEGIN:VCALENDAR
VERSION:2.0
PRODID:-//MarkedsPartner AS//Umbraco CMS//NO
TIMEZONE-ID:Europe/Oslo
X-WR-TIMEZONE:Europe/Oslo


BEGIN:VEVENT
UID:bcdf1f4ec1c347f2acd1ab19c1a78d07
URL:https://umbraco.naeringsforeningen.no/moeter/arkiv/tv-sending-011021/
ORGANIZER;CN=Ola Normann:MAILTO:ola.normann@markedspartner.no
DTSTAMP:20211001T070000Z
DTSTART:20211001T070000Z
DTEND:20211001T072000Z
LAST-MODIFIED:20221031T122506Z
SUMMARY:Næringsforeningen TV: Se vårt nye helgemagasin 
DESCRIPTION:I vårt nye helgemagasin denne uken har vi med oss Hanne Berentzen fra Ostehuset og Per Morten Haarr fra Region Stavanger som nå nyter gjenåpningen – selv om det fortsatt er utfordringer. Vi har også snakket med den danske kjendisfilosofen og forfatteren Morten Albæk om arbeidslivet under og etter korona – og duoen Harald Minge og Tormod Andreassen oppsummerer uka som har gått.
X-ALT-DESC:I v&#229;rt nye helgemagasin denne uken har vi med oss Hanne Berentzen fra Ostehuset og Per Morten Haarr fra Region Stavanger som n&#229; nyter gjen&#229;pningen – selv om det fortsatt er utfordringer. Vi har ogs&#229; snakket med den danske kjendisfilosofen og forfatteren Morten Alb&#230;k om arbeidslivet under og etter korona – og duoen Harald Minge og Tormod Andreassen oppsummerer uka som har g&#229;tt.
LOCATION:Facebook Live
END:VEVENT


END:VCALENDAR



