
BEGIN:VCALENDAR
VERSION:2.0
PRODID:-//MarkedsPartner AS//Umbraco CMS//NO
TIMEZONE-ID:Europe/Oslo
X-WR-TIMEZONE:Europe/Oslo


BEGIN:VEVENT
UID:c03a1be2bf7c4af7be06acc4af81ee1b
URL:https://umbraco.naeringsforeningen.no/moeter/arkiv/tv-ekstrasending-26mars/
ORGANIZER;CN=Ola Normann:MAILTO:ola.normann@markedspartner.no
DTSTAMP:20200326T190000Z
DTSTART:20200326T190000Z
DTEND:20200326T190000Z
LAST-MODIFIED:20221031T120246Z
SUMMARY:TV: Ekstrasending 26. mars
DESCRIPTION:Harald Minge kommenterer næringslivet i Stavanger-regionens forventninger i forkant av framleggelsen av regjeringens krisepakke.
X-ALT-DESC:Harald Minge kommenterer n&#230;ringslivet i Stavanger-regionens forventninger i forkant av framleggelsen av regjeringens krisepakke.
LOCATION:Facebook Live
END:VEVENT


END:VCALENDAR



