
BEGIN:VCALENDAR
VERSION:2.0
PRODID:-//MarkedsPartner AS//Umbraco CMS//NO
TIMEZONE-ID:Europe/Oslo
X-WR-TIMEZONE:Europe/Oslo


BEGIN:VEVENT
UID:12ea6774cf914266819670a9a51d5b16
URL:https://umbraco.naeringsforeningen.no/moeter/arkiv/tungenesmoetet_210922/
ORGANIZER;CN=Ola Normann:MAILTO:ola.normann@markedspartner.no
DTSTAMP:20220921T153000Z
DTSTART:20220921T153000Z
DTEND:20220921T190000Z
LAST-MODIFIED:20221031T121238Z
SUMMARY:Tungenesmøtet 2022
DESCRIPTION:Velkommen til det tradisjonsrike Tungenesmøtet, for å bli oppdatert og inspirert av utviklingen i næringslivet, i og rundt Randaberg.
X-ALT-DESC:Velkommen til det tradisjonsrike Tungenesm&#248;tet, for &#229; bli oppdatert og inspirert av utviklingen i n&#230;ringslivet, i og rundt Randaberg.
LOCATION:Ventilene, Viste Strand Hotel, Visteveien 47, 4070 Randaberg
END:VEVENT


END:VCALENDAR



