
BEGIN:VCALENDAR
VERSION:2.0
PRODID:-//MarkedsPartner AS//Umbraco CMS//NO
TIMEZONE-ID:Europe/Oslo
X-WR-TIMEZONE:Europe/Oslo


BEGIN:VEVENT
UID:99132c678b364a048dd713dd7a466d16
URL:https://umbraco.naeringsforeningen.no/moeter/arkiv/tungenesmoetet_190923/
ORGANIZER;CN=Ola Normann:MAILTO:ola.normann@markedspartner.no
DTSTAMP:20230919T153000Z
DTSTART:20230919T153000Z
DTEND:20230919T190000Z
LAST-MODIFIED:20230920T071607Z
SUMMARY:Tungenesmøtet 2023
DESCRIPTION:Under årets Tungenesmøte får vi innsikt i hvilke nye industrier som skal sørge for at verdiskapningen i regionen fortsetter. Vi får tatt en titt på den økonomiske statusen til Randaberg kommune og næringslivet i regionen.
X-ALT-DESC:Under &#229;rets Tungenesm&#248;te f&#229;r vi innsikt i hvilke nye industrier som skal s&#248;rge for at verdiskapningen i regionen fortsetter. Vi f&#229;r tatt en titt p&#229; den &#248;konomiske statusen til Randaberg kommune og n&#230;ringslivet i regionen.
LOCATION:Ventilene, Viste Strand Hotel
END:VEVENT


END:VCALENDAR



