
BEGIN:VCALENDAR
VERSION:2.0
PRODID:-//MarkedsPartner AS//Umbraco CMS//NO
TIMEZONE-ID:Europe/Oslo
X-WR-TIMEZONE:Europe/Oslo


BEGIN:VEVENT
UID:9515352ea5b3477dac3037849001ee68
URL:https://umbraco.naeringsforeningen.no/moeter/arkiv/tungenesmoetet-24/
ORGANIZER;CN=Ola Normann:MAILTO:ola.normann@markedspartner.no
DTSTAMP:20240918T153000Z
DTSTART:20240918T153000Z
DTEND:20240918T190000Z
LAST-MODIFIED:20240919T104629Z
SUMMARY:Tungenesmøtet 2024
DESCRIPTION:Ordførerne i Sola, Sandnes og Randaberg kommer for å diskutere hvem Randaberg er i storbyregionen. Samtidig kommer lokale bedrifter til å gi sine betrakninger på Randaberg som næringsadresse, etterfulgt av noen gode lokale suksesshistorier du kan bli inspirert av. Møtet avsluttes med middag.
X-ALT-DESC:Ordf&#248;rerne i Sola, Sandnes og Randaberg kommer for &#229; diskutere hvem Randaberg er i storbyregionen. Samtidig kommer lokale bedrifter til &#229; gi sine betrakninger p&#229; Randaberg som n&#230;ringsadresse, etterfulgt av noen gode lokale suksesshistorier du kan bli inspirert av. M&#248;tet avsluttes med middag.
LOCATION:Ventilene, Viste Strand Hotel
END:VEVENT


END:VCALENDAR



