
BEGIN:VCALENDAR
VERSION:2.0
PRODID:-//MarkedsPartner AS//Umbraco CMS//NO
TIMEZONE-ID:Europe/Oslo
X-WR-TIMEZONE:Europe/Oslo


BEGIN:VEVENT
UID:6f72035821384279b3a1ec2365762be4
URL:https://umbraco.naeringsforeningen.no/moeter/arkiv/tungenesmoetet-2020/
ORGANIZER;CN=Ola Normann:MAILTO:ola.normann@markedspartner.no
DTSTAMP:20200916T153000Z
DTSTART:20200916T153000Z
DTEND:20200916T200000Z
LAST-MODIFIED:20221031T113908Z
SUMMARY:Tungenesmøtet 2020
DESCRIPTION:Velkommen til det tradisjonsrike Tungenesmøte, hvor vi tar pulsen på utsikter og muligheter nord for Stavanger. Det blir sensommerstemning i vakre omgivelser på Vistestranden, hvor du blant annet får treffe Ståle Kyllingstad.
X-ALT-DESC:Velkommen til det tradisjonsrike Tungenesm&#248;te, hvor vi tar pulsen p&#229; utsikter og muligheter nord for Stavanger. Det blir sensommerstemning i vakre omgivelser p&#229; Vistestranden, hvor du blant annet f&#229;r treffe St&#229;le Kyllingstad.
LOCATION:Teltet p&#229; Vistestranden, Visteveien 47, 4071 Randaberg
END:VEVENT


END:VCALENDAR



