
BEGIN:VCALENDAR
VERSION:2.0
PRODID:-//MarkedsPartner AS//Umbraco CMS//NO
TIMEZONE-ID:Europe/Oslo
X-WR-TIMEZONE:Europe/Oslo


BEGIN:VEVENT
UID:fe07be1f919640f4ae0cf5821b4c5aea
URL:https://umbraco.naeringsforeningen.no/moeter/arkiv/tungenesmoetet-2019/
ORGANIZER;CN=Ola Normann:MAILTO:ola.normann@markedspartner.no
DTSTAMP:20190925T153000Z
DTSTART:20190925T153000Z
DTEND:20190925T190000Z
LAST-MODIFIED:20221031T113452Z
SUMMARY:Tungenesmøtet 2019
DESCRIPTION:Velkommen til det tradisjonsrike Tungenesmøtet, for alle som er interessert i næringsliv og næringsutvikling i og rundt Randaberg.
X-ALT-DESC:Velkommen til det tradisjonsrike Tungenesm&#248;tet, for alle som er interessert i n&#230;ringsliv og n&#230;ringsutvikling i og rundt Randaberg.
LOCATION:Tungenes Fyr
END:VEVENT


END:VCALENDAR



