
BEGIN:VCALENDAR
VERSION:2.0
PRODID:-//MarkedsPartner AS//Umbraco CMS//NO
TIMEZONE-ID:Europe/Oslo
X-WR-TIMEZONE:Europe/Oslo


BEGIN:VEVENT
UID:b45799695d234d5080e00cfa894c792e
URL:https://umbraco.naeringsforeningen.no/moeter/arkiv/treffpunktjaeren_280524/
ORGANIZER;CN=Ola Normann:MAILTO:ola.normann@markedspartner.no
DTSTAMP:20240528T153000Z
DTSTART:20240528T153000Z
DTEND:20240528T190000Z
LAST-MODIFIED:20240529T113455Z
SUMMARY:Jærbørsen 2024
DESCRIPTION:På jærbørsen får du servert de store kommende prosjektene innen bygg og anlegg på Jæren. Vi har invitert Jær-kommunene til å fortelle om kommende prosjekter og hvilke rammeavtaler som skal inngås. Velkommen!
X-ALT-DESC:P&#229; j&#230;rb&#248;rsen f&#229;r du servert de store kommende prosjektene innen bygg og anlegg p&#229; J&#230;ren. Vi har invitert J&#230;r-kommunene til &#229; fortelle om kommende prosjekter og hvilke rammeavtaler som skal inng&#229;s. Velkommen!
LOCATION:Hotell J&#230;ren
END:VEVENT


END:VCALENDAR



