
BEGIN:VCALENDAR
VERSION:2.0
PRODID:-//MarkedsPartner AS//Umbraco CMS//NO
TIMEZONE-ID:Europe/Oslo
X-WR-TIMEZONE:Europe/Oslo


BEGIN:VEVENT
UID:f132952429c24fe5b5e5e883cb67594a
URL:https://umbraco.naeringsforeningen.no/moeter/arkiv/treffpunktjaeren_010622/
ORGANIZER;CN=Ola Normann:MAILTO:ola.normann@markedspartner.no
DTSTAMP:20220601T153000Z
DTSTART:20220601T153000Z
DTEND:20220601T183000Z
LAST-MODIFIED:20221031T121840Z
SUMMARY:Dette skjer med Kalberg
DESCRIPTION:Hva skjer egentlig med Kalberg? På dette møtet kommer premissleverandører og utviklerer og gir deg alle de siste oppdateringene. Vi har og med oss næringsminister Jan Christian Vestre. Kom å få med deg siste nytt om Kalberg!
X-ALT-DESC:Hva skjer egentlig med Kalberg? P&#229; dette m&#248;tet kommer premissleverand&#248;rer og utviklerer og gir deg alle de siste oppdateringene. Vi har og med oss n&#230;ringsminister Jan Christian Vestre. Kom &#229; f&#229; med deg siste nytt om Kalberg!
LOCATION:J&#230;ren hotell
END:VEVENT


END:VCALENDAR



