
BEGIN:VCALENDAR
VERSION:2.0
PRODID:-//MarkedsPartner AS//Umbraco CMS//NO
TIMEZONE-ID:Europe/Oslo
X-WR-TIMEZONE:Europe/Oslo


BEGIN:VEVENT
UID:b8135afe42ee464d8265ef6a6a633c21
URL:https://umbraco.naeringsforeningen.no/moeter/arkiv/treffpunkt_sandnes_181022/
ORGANIZER;CN=Ola Normann:MAILTO:ola.normann@markedspartner.no
DTSTAMP:20221018T060000Z
DTSTART:20221018T060000Z
DTEND:20221018T093000Z
LAST-MODIFIED:20221031T115825Z
SUMMARY:Treffpunkt Sandnes: Status for reiselivet
DESCRIPTION:Fra Dalsnuten til konserthuset. Vi tar en status og ser på fremtidsplanene til reiselivet i Sandnes.
X-ALT-DESC:Fra Dalsnuten til konserthuset. Vi tar en status og ser p&#229; fremtidsplanene til reiselivet i Sandnes.
LOCATION:Vitenfabrikken, Storgata 28, 4307 Sandnes
END:VEVENT


END:VCALENDAR



