
BEGIN:VCALENDAR
VERSION:2.0
PRODID:-//MarkedsPartner AS//Umbraco CMS//NO
TIMEZONE-ID:Europe/Oslo
X-WR-TIMEZONE:Europe/Oslo


BEGIN:VEVENT
UID:da7d7670e3554fcd9f01d62697be0827
URL:https://umbraco.naeringsforeningen.no/moeter/arkiv/treffpunkt_sandnes_071222/
ORGANIZER;CN=Ola Normann:MAILTO:ola.normann@markedspartner.no
DTSTAMP:20221207T173000Z
DTSTART:20221207T173000Z
DTEND:20221207T203000Z
LAST-MODIFIED:20221208T120544Z
SUMMARY:Førjulstreff for næringslivet på GamlaVærket
DESCRIPTION:Kom og hør om suksesshistorien FOMO, med god julestemning. Vi inviterer til et hyggelig førjulestreff for næringslivet i Sandnes. Her møter du Magnus Meisdal fra FOMO og  Lars Kristiansen fra den Gule banken.
X-ALT-DESC:Kom og h&#248;r om suksesshistorien FOMO, med god julestemning. Vi inviterer til et hyggelig f&#248;rjulestreff for n&#230;ringslivet i Sandnes. Her m&#248;ter du Magnus Meisdal fra FOMO og  Lars Kristiansen fra den Gule banken.
LOCATION:GamlaV&#230;rket, St. Olavs gate 38, 4306 Sandnes
END:VEVENT


END:VCALENDAR



