
BEGIN:VCALENDAR
VERSION:2.0
PRODID:-//MarkedsPartner AS//Umbraco CMS//NO
TIMEZONE-ID:Europe/Oslo
X-WR-TIMEZONE:Europe/Oslo


BEGIN:VEVENT
UID:8613dc2d4da141179d8a4796f9db84ac
URL:https://umbraco.naeringsforeningen.no/moeter/arkiv/treffpunkt-stavanger_oktober-2020/
ORGANIZER;CN=Ola Normann:MAILTO:ola.normann@markedspartner.no
DTSTAMP:20201029T070000Z
DTSTART:20201029T070000Z
DTEND:20201029T090000Z
LAST-MODIFIED:20221031T114419Z
SUMMARY:Treffpunkt Stavanger: Hvorfor er sentrum viktig?
DESCRIPTION:Hva betyr sentrumsutvikling for attraktivitet i regionen? Og hvordan kan vi samarbeide bedre for å styrke byens attraktivitet som næringsadresse? Få svar på spørsmålene når vi arrangerer frokostmøte på verdensledende katamaran.
X-ALT-DESC:Hva betyr sentrumsutvikling for attraktivitet i regionen? Og hvordan kan vi samarbeide bedre for &#229; styrke byens attraktivitet som n&#230;ringsadresse? F&#229; svar p&#229; sp&#248;rsm&#229;lene n&#229;r vi arrangerer frokostm&#248;te p&#229; verdensledende katamaran.
LOCATION:Rygerelektra, Strandkaien, V&#229;gen i Stavanger
END:VEVENT


END:VCALENDAR



