
BEGIN:VCALENDAR
VERSION:2.0
PRODID:-//MarkedsPartner AS//Umbraco CMS//NO
TIMEZONE-ID:Europe/Oslo
X-WR-TIMEZONE:Europe/Oslo


BEGIN:VEVENT
UID:83bd19d8e207451dae20da560ef76a39
URL:https://umbraco.naeringsforeningen.no/moeter/arkiv/treffpunkt-stavanger_april-2021/
ORGANIZER;CN=Ola Normann:MAILTO:ola.normann@markedspartner.no
DTSTAMP:20210421T090000Z
DTSTART:20210421T090000Z
DTEND:20210421T103000Z
LAST-MODIFIED:20221031T121221Z
SUMMARY:Paradis – Hva nå?
DESCRIPTION:DIGITALKONFERANSE: Nå skal vi lage ny områderegulering for Paradis - et av Stavangers mest spennende og attraktive byutviklingsområde! Men hva skal Paradis være? Og kan området ble en spydspiss for å tiltrekke oss nasjonale og internasjonale bedrifter?
X-ALT-DESC:DIGITALKONFERANSE: N&#229; skal vi lage ny omr&#229;deregulering for Paradis - et av Stavangers mest spennende og attraktive byutviklingsomr&#229;de! Men hva skal Paradis v&#230;re? Og kan omr&#229;det ble en spydspiss for &#229; tiltrekke oss nasjonale og internasjonale bedrifter?
LOCATION:Online
END:VEVENT


END:VCALENDAR



