
BEGIN:VCALENDAR
VERSION:2.0
PRODID:-//MarkedsPartner AS//Umbraco CMS//NO
TIMEZONE-ID:Europe/Oslo
X-WR-TIMEZONE:Europe/Oslo


BEGIN:VEVENT
UID:e84abc30a35e48af8ad336e56b5dce37
URL:https://umbraco.naeringsforeningen.no/moeter/arkiv/treffpunkt-stavanger_120522/
ORGANIZER;CN=Ola Normann:MAILTO:ola.normann@markedspartner.no
DTSTAMP:20220512T060000Z
DTSTART:20220512T060000Z
DTEND:20220512T080000Z
LAST-MODIFIED:20221031T121445Z
SUMMARY:Treffpunkt Stavanger: Slik skal vi bli gründerbyen
DESCRIPTION:Er vi en attraktiv region for å tiltrekke oss kompetanse, og har vi tilstrekkelig kapasitet for å få vekstselskaper til å etablere seg og ikke minst til å vokse? Bli med på frokostmøte og hør om hvordan det jobbes i regionen for at flere skal velge Stavanger.
X-ALT-DESC:Er vi en attraktiv region for &#229; tiltrekke oss kompetanse, og har vi tilstrekkelig kapasitet for &#229; f&#229; vekstselskaper til &#229; etablere seg og ikke minst til &#229; vokse? Bli med p&#229; frokostm&#248;te og h&#248;r om hvordan det jobbes i regionen for at flere skal velge Stavanger.
LOCATION:PwC Energy Experience Center, Kanalsletta 8, 4033 Stavanger
END:VEVENT


END:VCALENDAR



