
BEGIN:VCALENDAR
VERSION:2.0
PRODID:-//MarkedsPartner AS//Umbraco CMS//NO
TIMEZONE-ID:Europe/Oslo
X-WR-TIMEZONE:Europe/Oslo


BEGIN:VEVENT
UID:f0108214cf914026a409b110a2869ed2
URL:https://umbraco.naeringsforeningen.no/moeter/arkiv/treffpunkt-stavanger_031121/
ORGANIZER;CN=Ola Normann:MAILTO:ola.normann@markedspartner.no
DTSTAMP:20211103T070000Z
DTSTART:20211103T070000Z
DTEND:20211103T090000Z
LAST-MODIFIED:20221031T122847Z
SUMMARY:Treffpunkt Stavanger: Vi utvikler storbyen!
DESCRIPTION:Utsiktene i Stavanger er mer spennende og omstillingstakten sterkere enn noen gang. Bli med og hør hvordan skal vi bygge storbyen Stavanger fremover.
X-ALT-DESC:Utsiktene i Stavanger er mer spennende og omstillingstakten sterkere enn noen gang. Bli med og h&#248;r hvordan skal vi bygge storbyen Stavanger fremover.
LOCATION:Rosenkildehuset
END:VEVENT


END:VCALENDAR



