
BEGIN:VCALENDAR
VERSION:2.0
PRODID:-//MarkedsPartner AS//Umbraco CMS//NO
TIMEZONE-ID:Europe/Oslo
X-WR-TIMEZONE:Europe/Oslo


BEGIN:VEVENT
UID:416eee59a1434f6c83b8327bd269043d
URL:https://umbraco.naeringsforeningen.no/moeter/arkiv/treffpunkt-stavanger_020222/
ORGANIZER;CN=Ola Normann:MAILTO:ola.normann@markedspartner.no
DTSTAMP:20220202T100000Z
DTSTART:20220202T100000Z
DTEND:20220202T113000Z
LAST-MODIFIED:20221031T122844Z
SUMMARY:Treffpunkt Stavanger: Grønn omstilling – hvordan ligger vi an?
DESCRIPTION:DIGITALKONFERANSE: Innovasjon og teknologiutvikling er en av nøklene til det grønne skiftet, og næringslivet en sentral kraft. Men hvordan ligger vi egentlig an? Hva er effekten av arbeidet vi gjør? Og er det egentlig lønnsomt for oss?
X-ALT-DESC:DIGITALKONFERANSE: Innovasjon og teknologiutvikling er en av n&#248;klene til det gr&#248;nne skiftet, og n&#230;ringslivet en sentral kraft. Men hvordan ligger vi egentlig an? Hva er effekten av arbeidet vi gj&#248;r? Og er det egentlig l&#248;nnsomt for oss?
LOCATION:webinar
END:VEVENT


END:VCALENDAR



