
BEGIN:VCALENDAR
VERSION:2.0
PRODID:-//MarkedsPartner AS//Umbraco CMS//NO
TIMEZONE-ID:Europe/Oslo
X-WR-TIMEZONE:Europe/Oslo


BEGIN:VEVENT
UID:33594cc135a44e72b631b83f7210d093
URL:https://umbraco.naeringsforeningen.no/moeter/arkiv/treffpunkt-stavanger_-220223/
ORGANIZER;CN=Ola Normann:MAILTO:ola.normann@markedspartner.no
DTSTAMP:20230222T070000Z
DTSTART:20230222T070000Z
DTEND:20230222T093000Z
LAST-MODIFIED:20230222T131535Z
SUMMARY:Stavanger: Fremtidens by
DESCRIPTION:Utviklingen av byen Stavanger skjer her og nå. Du får blant annet høre mer om FoU-prosjektet City Impact Districts (CID) som brukes for å utvikle byen vår, hvordan morgendagens havn vil se ut i Stavanger, og innblikk i hvor vi skal bo. Kom og få svar på hvordan fremtidens Stavanger vil bli seende ut.
X-ALT-DESC:Utviklingen av byen Stavanger skjer her og n&#229;. Du f&#229;r blant annet h&#248;re mer om&#160;FoU-prosjektet City Impact Districts (CID) som brukes for &#229; utvikle byen v&#229;r, hvordan morgendagens havn vil se ut i Stavanger, og innblikk i hvor vi skal bo. Kom og f&#229; svar p&#229; hvordan fremtidens Stavanger vil bli seende ut.
LOCATION:East Side, Ryfylkegata 9 i Stavanger &#216;st
END:VEVENT


END:VCALENDAR



