
BEGIN:VCALENDAR
VERSION:2.0
PRODID:-//MarkedsPartner AS//Umbraco CMS//NO
TIMEZONE-ID:Europe/Oslo
X-WR-TIMEZONE:Europe/Oslo


BEGIN:VEVENT
UID:379847fc63014021a1d3dfd7e3cc86a6
URL:https://umbraco.naeringsforeningen.no/moeter/arkiv/treffpunkt-stavanger_-030523/
ORGANIZER;CN=Ola Normann:MAILTO:ola.normann@markedspartner.no
DTSTAMP:20230503T060000Z
DTSTART:20230503T060000Z
DTEND:20230503T090000Z
LAST-MODIFIED:20230503T185140Z
SUMMARY:Slik skal vi rekruttere folk
DESCRIPTION:Bli med på team Stavanger-regionen! Skal vi tiltrekke oss den kompetansen regionen skriker etter i dag må vi stå sammen. Treffpunkt Stavanger inviterer på idédugnad, viser deg neste steg og gir deg de nødvendige ressursene.
X-ALT-DESC:Bli med p&#229; team Stavanger-regionen! Skal vi tiltrekke oss den kompetansen regionen skriker etter i dag m&#229; vi st&#229; sammen. Treffpunkt Stavanger inviterer p&#229; id&#233;dugnad, viser deg neste steg og gir deg de n&#248;dvendige ressursene.
LOCATION:Rosenkildehuset
END:VEVENT


END:VCALENDAR



