
BEGIN:VCALENDAR
VERSION:2.0
PRODID:-//MarkedsPartner AS//Umbraco CMS//NO
TIMEZONE-ID:Europe/Oslo
X-WR-TIMEZONE:Europe/Oslo


BEGIN:VEVENT
UID:3051d060e6664f5f88f198cf7a485547
URL:https://umbraco.naeringsforeningen.no/moeter/arkiv/treffpunkt-stavanger-1/
ORGANIZER;CN=Ola Normann:MAILTO:ola.normann@markedspartner.no
DTSTAMP:20191203T073000Z
DTSTART:20191203T073000Z
DTEND:20191203T093000Z
LAST-MODIFIED:20221031T114422Z
SUMMARY:Treffpunkt Stavanger: Næringsutvikling under vann
DESCRIPTION:Nye Stavanger blir en havbrukskommune i en region som har enorme ressurser og kompetanse innen operasjoner på havbunnen som kan overføres til den blågrønne sektoren. Hvilke muligheter har vi, og hva betyr dette for næringslivet?
X-ALT-DESC:Nye Stavanger blir en havbrukskommune i en region som har enorme ressurser og kompetanse innen operasjoner p&#229; havbunnen som kan overf&#248;res til den bl&#229;gr&#248;nne sektoren. Hvilke muligheter har vi, og hva betyr dette for n&#230;ringslivet?
LOCATION:Rosenkildehuset
END:VEVENT


END:VCALENDAR



