
BEGIN:VCALENDAR
VERSION:2.0
PRODID:-//MarkedsPartner AS//Umbraco CMS//NO
TIMEZONE-ID:Europe/Oslo
X-WR-TIMEZONE:Europe/Oslo


BEGIN:VEVENT
UID:ad1fc02ffebe4b55ba2e5fcb0bbed681
URL:https://umbraco.naeringsforeningen.no/moeter/arkiv/treffpunkt-sola_april2021/
ORGANIZER;CN=Ola Normann:MAILTO:ola.normann@markedspartner.no
DTSTAMP:20210610T160000Z
DTSTART:20210610T160000Z
DTEND:20210610T200000Z
LAST-MODIFIED:20221031T122048Z
SUMMARY:Sommertreff i Sola
DESCRIPTION:Velkommen til nye Sola Strand Hotel, når vi endelig kan samles til sommertreff. Kvelden byr på spennende foredrag om destinasjon i Sola og regionen. Det blir også akustisk musikk med Are Sleveland.
X-ALT-DESC:Velkommen til nye Sola Strand Hotel, n&#229;r vi endelig kan samles til sommertreff. Kvelden byr p&#229; spennende foredrag om destinasjon i Sola og regionen. Det blir ogs&#229; akustisk musikk med Are Sleveland.
LOCATION:Sola Strand Hotel
END:VEVENT


END:VCALENDAR



