
BEGIN:VCALENDAR
VERSION:2.0
PRODID:-//MarkedsPartner AS//Umbraco CMS//NO
TIMEZONE-ID:Europe/Oslo
X-WR-TIMEZONE:Europe/Oslo


BEGIN:VEVENT
UID:8a73b61611574f7db285e4eed0dc3e70
URL:https://umbraco.naeringsforeningen.no/moeter/arkiv/treffpunkt-sola_290920/
ORGANIZER;CN=Ola Normann:MAILTO:ola.normann@markedspartner.no
DTSTAMP:20200929T163000Z
DTSTART:20200929T163000Z
DTEND:20200929T190000Z
LAST-MODIFIED:20221031T113930Z
SUMMARY:Treffpunkt Sola: Pulsen på fremtiden
DESCRIPTION:Hvordan må næringslivet i Sola omstille seg for å være konkurransedyktig i fremtiden? Og hvordan påvirkes økonomien i kommunen av covid-19 og oljeprisfallet? Kom på Treffpunkt Sola! Vi tar pulsen på fremtiden.
X-ALT-DESC:Hvordan m&#229; n&#230;ringslivet i Sola omstille seg for &#229; v&#230;re konkurransedyktig i fremtiden? Og hvordan p&#229;virkes &#248;konomien i kommunen av covid-19 og oljeprisfallet? Kom p&#229; Treffpunkt Sola! Vi tar pulsen p&#229; fremtiden.
LOCATION:Quality Airport Hotel, S&#248;mmeveien 1, 4055 Sola.
END:VEVENT


END:VCALENDAR



