
BEGIN:VCALENDAR
VERSION:2.0
PRODID:-//MarkedsPartner AS//Umbraco CMS//NO
TIMEZONE-ID:Europe/Oslo
X-WR-TIMEZONE:Europe/Oslo


BEGIN:VEVENT
UID:9bc5e21811f143ddb045688c3672e19b
URL:https://umbraco.naeringsforeningen.no/moeter/arkiv/treffpunkt-sola/
ORGANIZER;CN=Ola Normann:MAILTO:ola.normann@markedspartner.no
DTSTAMP:20200128T173000Z
DTSTART:20200128T173000Z
DTEND:20200128T203000Z
LAST-MODIFIED:20221031T115904Z
SUMMARY:Treffpunkt Sola med Ståle Kyllingstad og ordføreren
DESCRIPTION:Hva vil skje i Sola kommune de neste fire årene? Møt vår nye ordfører og hør hva posisjonen tenker rundt næringspolitikk og -utvikling. Du får også møte Ståle Kyllingstad som ærlig deler sine tanker om utvikling og vekst i Sola. Vi avslutter med debatt!
X-ALT-DESC:Hva vil skje i Sola kommune de neste fire &#229;rene? M&#248;t v&#229;r nye ordf&#248;rer og h&#248;r hva posisjonen tenker rundt n&#230;ringspolitikk og -utvikling. Du f&#229;r ogs&#229; m&#248;te St&#229;le Kyllingstad som &#230;rlig deler sine tanker om utvikling og vekst i Sola. Vi avslutter med debatt!
LOCATION:Sola kulturhus
END:VEVENT


END:VCALENDAR



