
BEGIN:VCALENDAR
VERSION:2.0
PRODID:-//MarkedsPartner AS//Umbraco CMS//NO
TIMEZONE-ID:Europe/Oslo
X-WR-TIMEZONE:Europe/Oslo


BEGIN:VEVENT
UID:fd06d4ea33204cf99a03058d68f512c0
URL:https://umbraco.naeringsforeningen.no/moeter/arkiv/treffpunkt-sandnes_digital_110321/
ORGANIZER;CN=Ola Normann:MAILTO:ola.normann@markedspartner.no
DTSTAMP:20210311T110000Z
DTSTART:20210311T110000Z
DTEND:20210311T123000Z
LAST-MODIFIED:20221031T120758Z
SUMMARY:Hvordan sikre seg mot bandittene?
DESCRIPTION:DIGITALKONFERANSE: Bedrifter er under angrep fra digitale banditter, akkurat nå. I en tid hvor den digitale verden tar mer og mer plass, gir det også mer plass til mennesker med uærlige hensikter. Men hvordan blir du bandittsikker? Og hvilket juridisk ansvar har dere i ledelsen og styrene, for å sikre bedriften mot svindel?
X-ALT-DESC:DIGITALKONFERANSE: Bedrifter er under angrep fra digitale banditter, akkurat n&#229;. I en tid hvor den digitale verden tar mer og mer plass, gir det ogs&#229; mer plass til mennesker med u&#230;rlige hensikter. Men hvordan blir du bandittsikker? Og hvilket juridisk ansvar har dere i ledelsen og styrene, for &#229; sikre bedriften mot svindel?
LOCATION:Online
END:VEVENT


END:VCALENDAR



