
BEGIN:VCALENDAR
VERSION:2.0
PRODID:-//MarkedsPartner AS//Umbraco CMS//NO
TIMEZONE-ID:Europe/Oslo
X-WR-TIMEZONE:Europe/Oslo


BEGIN:VEVENT
UID:dec9348f968f44b685a0570aec77d4aa
URL:https://umbraco.naeringsforeningen.no/moeter/arkiv/treffpunkt-sandnes_221020/
ORGANIZER;CN=Ola Normann:MAILTO:ola.normann@markedspartner.no
DTSTAMP:20201105T070000Z
DTSTART:20201105T070000Z
DTEND:20201105T090000Z
LAST-MODIFIED:20221031T115200Z
SUMMARY:Treffpunkt Sandnes: Ka nå City?
DESCRIPTION:Hva må til for å lykkes med utvikling og omstilling i sentrum, under og etter covid-19? Hvilken påvirkning har vårt nye handlemønster på detaljhandelen? Kan vi forutse hvilke butikker som kommer til å overleve?
X-ALT-DESC:Hva m&#229; til for &#229; lykkes med utvikling og omstilling i sentrum, under og etter covid-19? Hvilken p&#229;virkning har v&#229;rt nye handlem&#248;nster p&#229; detaljhandelen? Kan vi forutse hvilke butikker som kommer til &#229; overleve?
LOCATION:Quality Hotel Residence
END:VEVENT


END:VCALENDAR



