
BEGIN:VCALENDAR
VERSION:2.0
PRODID:-//MarkedsPartner AS//Umbraco CMS//NO
TIMEZONE-ID:Europe/Oslo
X-WR-TIMEZONE:Europe/Oslo


BEGIN:VEVENT
UID:f3dd563f53554b3ab4b51cb5e59ccb87
URL:https://umbraco.naeringsforeningen.no/moeter/arkiv/treffpunkt-sandnes_150223/
ORGANIZER;CN=Ola Normann:MAILTO:ola.normann@markedspartner.no
DTSTAMP:20230215T070000Z
DTSTART:20230215T070000Z
DTEND:20230215T093000Z
LAST-MODIFIED:20230220T070934Z
SUMMARY:Halver strømregningen til din bedrift!
DESCRIPTION:Sitter du som leietaker eller eier av et næringsbygg? Både små og store bedrifter kan ha mye å spare ved å kartlegge sitt energiforbruk. Næringstreffet i Sandnes vil gi deg klarhet i hvordan du finner de riktige verktøyene som kan optimalisere energieffektiviteten i din bedrift, og viser hvordan du ligger an.
X-ALT-DESC:Sitter du som leietaker eller eier av et n&#230;ringsbygg? B&#229;de sm&#229; og store bedrifter kan ha mye &#229; spare ved &#229; kartlegge sitt energiforbruk. N&#230;ringstreffet i Sandnes vil gi deg klarhet i hvordan du finner de riktige verkt&#248;yene som kan optimalisere energieffektiviteten i din bedrift, og viser hvordan du ligger an.
LOCATION:Quality Hotel Residence, Julie Eges gate 5, 4306, Sandnes
END:VEVENT


END:VCALENDAR



