
BEGIN:VCALENDAR
VERSION:2.0
PRODID:-//MarkedsPartner AS//Umbraco CMS//NO
TIMEZONE-ID:Europe/Oslo
X-WR-TIMEZONE:Europe/Oslo


BEGIN:VEVENT
UID:f4948ffebee44b56a11f0ba4b0217615
URL:https://umbraco.naeringsforeningen.no/moeter/arkiv/treffpunkt-sandnes/
ORGANIZER;CN=Ola Normann:MAILTO:ola.normann@markedspartner.no
DTSTAMP:20191203T070000Z
DTSTART:20191203T070000Z
DTEND:20191203T100000Z
LAST-MODIFIED:20221031T114428Z
SUMMARY:Treffpunkt Sandnes: Sentrumsutvikling i Sandnes
DESCRIPTION:Hvordan kan vi få Sandnes sentrum til å bli en mer attraktiv næringsadresse?

Vi er i et skjæringspunkt i Sandnes. Vi vil ha flere arbeidsplasser, men har vi  tid til å vente på at det bygges nye næringsbygg?
X-ALT-DESC:Hvordan kan vi f&#229; Sandnes sentrum til &#229; bli en mer attraktiv n&#230;ringsadresse?

Vi er i et skj&#230;ringspunkt i Sandnes. Vi vil ha flere arbeidsplasser, men har vi  tid til &#229; vente p&#229; at det bygges nye n&#230;ringsbygg?
LOCATION:Vitenfabrikken i Sandnes
END:VEVENT


END:VCALENDAR



