
BEGIN:VCALENDAR
VERSION:2.0
PRODID:-//MarkedsPartner AS//Umbraco CMS//NO
TIMEZONE-ID:Europe/Oslo
X-WR-TIMEZONE:Europe/Oslo


BEGIN:VEVENT
UID:83d4fcbab9244805abd5618a40e8897b
URL:https://umbraco.naeringsforeningen.no/moeter/arkiv/treffpunkt-sandnes-klima-miljoe-og-sirkulaer-oekonomi/
ORGANIZER;CN=Ola Normann:MAILTO:ola.normann@markedspartner.no
DTSTAMP:20200303T070000Z
DTSTART:20200303T070000Z
DTEND:20200303T093000Z
LAST-MODIFIED:20221031T115703Z
SUMMARY:Treffpunkt Sandnes: Klima, miljø og sirkulær økonomi
DESCRIPTION:En klimavennlig og bærekraftig by, oppleves som en attraktiv by som ivaretar innbyggerne så vel som miljøet. På frokostmøtet Treffpunkt Sandnes denne tirsdagen svarer vi på hva kommunen, banken og næringslivet setter av klimakrav, og hva det betyr for deg og din bedrift.
X-ALT-DESC:En klimavennlig og b&#230;rekraftig by, oppleves som en attraktiv by som ivaretar innbyggerne s&#229; vel som milj&#248;et. P&#229; frokostm&#248;tet Treffpunkt Sandnes denne tirsdagen svarer vi p&#229; hva kommunen, banken og n&#230;ringslivet setter av klimakrav, og hva det betyr for deg og din bedrift.
LOCATION:Quality Hotel Residence, Julie Eges gate 5, Sandnes
END:VEVENT


END:VCALENDAR



