
BEGIN:VCALENDAR
VERSION:2.0
PRODID:-//MarkedsPartner AS//Umbraco CMS//NO
TIMEZONE-ID:Europe/Oslo
X-WR-TIMEZONE:Europe/Oslo


BEGIN:VEVENT
UID:1d7394a3b85044a1add765b20910fe27
URL:https://umbraco.naeringsforeningen.no/moeter/arkiv/treffpunkt-sandnes-2/
ORGANIZER;CN=Ola Normann:MAILTO:ola.normann@markedspartner.no
DTSTAMP:20220315T070000Z
DTSTART:20220315T070000Z
DTEND:20220315T100000Z
LAST-MODIFIED:20221031T122815Z
SUMMARY:Treffpunkt Sandnes: Strømkrisen
DESCRIPTION:Den dramatiske økningen i strømprisen har preget nyhetsbildet det siste halve året. Er det en fare for at det kan bli den nye normalen? Behovet for strøm vil øke, men tilgangen vil bli mindre. Vi må bli energismarte, men hvordan?
X-ALT-DESC:Den dramatiske &#248;kningen i str&#248;mprisen har preget nyhetsbildet det siste halve &#229;ret. Er det en fare for at det kan bli den nye normalen? Behovet for str&#248;m vil &#248;ke, men tilgangen vil bli mindre. Vi m&#229; bli energismarte, men hvordan?
LOCATION:Clarion Hotel Residence, Julie Eges Gate 5, 4306 Sandnes
END:VEVENT


END:VCALENDAR



