
BEGIN:VCALENDAR
VERSION:2.0
PRODID:-//MarkedsPartner AS//Umbraco CMS//NO
TIMEZONE-ID:Europe/Oslo
X-WR-TIMEZONE:Europe/Oslo


BEGIN:VEVENT
UID:caf8306fac2149039eadb5549e599bb3
URL:https://umbraco.naeringsforeningen.no/moeter/arkiv/treffpunkt-ryfylke_131020/
ORGANIZER;CN=Ola Normann:MAILTO:ola.normann@markedspartner.no
DTSTAMP:20201013T160000Z
DTSTART:20201013T160000Z
DTEND:20201013T183000Z
LAST-MODIFIED:20221031T114050Z
SUMMARY:Treffpunkt Ryfylke: TAC, hydrogen og offentlige kontrakter
DESCRIPTION:Tau Autonomy Center (TAC) bygger en autonom framtid i Ryfylke. GreenH vil skape et lokalt hydrogeneventyr. Du møter dem begge på Treffpunkt Ryfylke i Tau Næringspark, sammen med Strand og Hjelmeland kommune som forteller oss hvilke offentlige kontrakter vi kan vente oss i tiden som kommer. Det blir både spennende og matnyttig. Velkommen!
X-ALT-DESC:Tau Autonomy Center (TAC) bygger en autonom framtid i Ryfylke. GreenH vil skape et lokalt hydrogeneventyr. Du m&#248;ter dem begge p&#229; Treffpunkt Ryfylke i Tau N&#230;ringspark, sammen med Strand og Hjelmeland kommune som forteller oss hvilke offentlige kontrakter vi kan vente oss i tiden som kommer. Det blir b&#229;de spennende og matnyttig. Velkommen!
LOCATION:NOSEFO, Breivikvegen 25, Tau N&#230;ringspark
END:VEVENT


END:VCALENDAR



