
BEGIN:VCALENDAR
VERSION:2.0
PRODID:-//MarkedsPartner AS//Umbraco CMS//NO
TIMEZONE-ID:Europe/Oslo
X-WR-TIMEZONE:Europe/Oslo


BEGIN:VEVENT
UID:b007649b88ec4f9b94724e7b800d0af0
URL:https://umbraco.naeringsforeningen.no/moeter/arkiv/treffpunkt-ryfylke-teknologi-og-utvikling/
ORGANIZER;CN=Ola Normann:MAILTO:ola.normann@markedspartner.no
DTSTAMP:20220317T170000Z
DTSTART:20220317T170000Z
DTEND:20220317T210000Z
LAST-MODIFIED:20221031T122537Z
SUMMARY:Treffpunkt Ryfylke med middag: Teknologi og utvikling
DESCRIPTION:Det begynte med produksjon av fiskestenger i en låve på Tau for 70 år siden. I fjor landet NASAs rover på Mars med en antenne fra Comrod om bord. Vi inviterer til Treffpunkt Ryfylke der Ole Gunnar Fjelde forteller om deres framtidsplaner og viser oss rundt. Dessuten kommer regiondirektør Njål Skår fra Sparebanken Vest, og vi får en oppdatering om hvordan Ryfast har påvirket utviklingen og boligprisene. Vi avslutter kvelden med middag på Meat & Eat.
X-ALT-DESC:Det begynte med produksjon av fiskestenger i en l&#229;ve p&#229; Tau for 70 &#229;r siden. I fjor landet NASAs rover p&#229; Mars med en antenne fra Comrod om bord. Vi inviterer til Treffpunkt Ryfylke der Ole Gunnar Fjelde forteller om deres framtidsplaner og viser oss rundt. Dessuten kommer regiondirekt&#248;r Nj&#229;l Sk&#229;r fra Sparebanken Vest, og vi f&#229;r en oppdatering om hvordan Ryfast har p&#229;virket utviklingen og boligprisene. Vi avslutter kvelden med middag p&#229; Meat &amp; Eat.
LOCATION:Comrod/Meat &amp; Eat, Tau
END:VEVENT


END:VCALENDAR



