
BEGIN:VCALENDAR
VERSION:2.0
PRODID:-//MarkedsPartner AS//Umbraco CMS//NO
TIMEZONE-ID:Europe/Oslo
X-WR-TIMEZONE:Europe/Oslo


BEGIN:VEVENT
UID:fac8f5dfda244a3fa0ffe09dfea05319
URL:https://umbraco.naeringsforeningen.no/moeter/arkiv/treffpunkt-ryfylke-24102019/
ORGANIZER;CN=Ola Normann:MAILTO:ola.normann@markedspartner.no
DTSTAMP:20191024T160000Z
DTSTART:20191024T160000Z
DTEND:20191024T180000Z
LAST-MODIFIED:20221031T113602Z
SUMMARY:Treffpunkt Ryfylke: Skole og næringsliv etter Ryfast
DESCRIPTION:Hvordan tenker Strand videregående skole i forhold til næringslivet og hva krever næringslivet av skolen? Det får vi svar på av rektor Erik Danielsen. I tillegg får vi omvisning på Havbrukssenteret, rådmann Ketil Reed Aasgaard presenterer den nye kommuneplanen i Strand – og ikke minst vil ordførerne Bjørn Laugaland og Irene Heng Lauvsnes fortelle hvordan de ser for seg de neste fire årene i Ryfylke – etter Ryfast.
X-ALT-DESC:Hvordan tenker Strand videreg&#229;ende skole i forhold til n&#230;ringslivet og hva krever n&#230;ringslivet av skolen? Det f&#229;r vi svar p&#229; av rektor Erik Danielsen. I tillegg f&#229;r vi omvisning p&#229; Havbrukssenteret, r&#229;dmann Ketil Reed Aasgaard presenterer den nye kommuneplanen i Strand – og ikke minst vil ordf&#248;rerne Bj&#248;rn Laugaland og Irene Heng Lauvsnes fortelle hvordan de ser for seg de neste fire &#229;rene i Ryfylke – etter Ryfast.
LOCATION:Strand VGS
END:VEVENT


END:VCALENDAR



