
BEGIN:VCALENDAR
VERSION:2.0
PRODID:-//MarkedsPartner AS//Umbraco CMS//NO
TIMEZONE-ID:Europe/Oslo
X-WR-TIMEZONE:Europe/Oslo


BEGIN:VEVENT
UID:c978d7289bde43a58d0b2d537daa18da
URL:https://umbraco.naeringsforeningen.no/moeter/arkiv/treffpunkt-ryfylke-240424/
ORGANIZER;CN=Ola Normann:MAILTO:ola.normann@markedspartner.no
DTSTAMP:20240424T160000Z
DTSTART:20240424T160000Z
DTEND:20240424T200000Z
LAST-MODIFIED:20240425T062604Z
SUMMARY:Treffpunkt Ryfylke med middag: Green Mountain på Jørpeland
DESCRIPTION:Hvordan er Green Mountains planener for et datasenter på Jørpeland og hvordan vil det påvirke regionen? På Treffpunkt Ryfylke denne gangen får vi besøk av Svein Atle Hagaseth, administrerende direktør i Green Mountain. Helge Kjellevold vil også oppdatere oss på planene for Preikestolen i årene som kommer og Elin Aasheim Rossemyr fra Strand kommune presenterer den nye mulighetsstudien for sentrum i Jørpeland.
X-ALT-DESC:Hvordan er Green Mountains planener for et datasenter p&#229; J&#248;rpeland og hvordan vil det p&#229;virke regionen? P&#229; Treffpunkt Ryfylke denne gangen f&#229;r vi bes&#248;k av Svein Atle Hagaseth, administrerende direkt&#248;r i Green Mountain. Helge Kjellevold vil ogs&#229; oppdatere oss p&#229; planene for Preikestolen i &#229;rene som kommer og Elin Aasheim Rossemyr fra Strand kommune presenterer den nye mulighetsstudien for sentrum i J&#248;rpeland.
LOCATION:Verkshotellet/Villa Rosehagen
END:VEVENT


END:VCALENDAR



